BEGIN:VCALENDAR
VERSION:2.0
PRODID:-//Lange Henne - Naturfreunde Oberes Elbtal e.V. - ECPv6.15.20//NONSGML v1.0//EN
CALSCALE:GREGORIAN
METHOD:PUBLISH
X-WR-CALNAME:Lange Henne - Naturfreunde Oberes Elbtal e.V.
X-ORIGINAL-URL:https://langehenne.de
X-WR-CALDESC:Veranstaltungen für Lange Henne - Naturfreunde Oberes Elbtal e.V.
REFRESH-INTERVAL;VALUE=DURATION:PT1H
X-Robots-Tag:noindex
X-PUBLISHED-TTL:PT1H
BEGIN:VTIMEZONE
TZID:Europe/Berlin
BEGIN:DAYLIGHT
TZOFFSETFROM:+0100
TZOFFSETTO:+0200
TZNAME:CEST
DTSTART:20230326T010000
END:DAYLIGHT
BEGIN:STANDARD
TZOFFSETFROM:+0200
TZOFFSETTO:+0100
TZNAME:CET
DTSTART:20231029T010000
END:STANDARD
BEGIN:DAYLIGHT
TZOFFSETFROM:+0100
TZOFFSETTO:+0200
TZNAME:CEST
DTSTART:20240331T010000
END:DAYLIGHT
BEGIN:STANDARD
TZOFFSETFROM:+0200
TZOFFSETTO:+0100
TZNAME:CET
DTSTART:20241027T010000
END:STANDARD
BEGIN:DAYLIGHT
TZOFFSETFROM:+0100
TZOFFSETTO:+0200
TZNAME:CEST
DTSTART:20250330T010000
END:DAYLIGHT
BEGIN:STANDARD
TZOFFSETFROM:+0200
TZOFFSETTO:+0100
TZNAME:CET
DTSTART:20251026T010000
END:STANDARD
END:VTIMEZONE
BEGIN:VEVENT
DTSTART;TZID=Europe/Berlin:20240404T133000
DTEND;TZID=Europe/Berlin:20240404T200000
DTSTAMP:20260423T163746
CREATED:20240325T221823Z
LAST-MODIFIED:20240327T114350Z
UID:6349-1712237400-1712260800@langehenne.de
SUMMARY:Baunachmittag mit Lagerfeuer und Stockbrot
DESCRIPTION:Wir bauen einen neuen Lagerplatz für unser Brennholz. Wer von euch Spaß beim Bohren\, Hämmern und Schrauben hat\, ist herzlich eingeladen uns mit Rat und Tat zur Seite zu stehen. Am Donnerstag\, den 4. April ab 13.30 Uhr ist Beginn. Da wir in der Henne nicht so viele Werkzeuge vorhanden haben\, ist es wichtig\, dass ihr eure eigenen Hilfsmittel und entsprechende Schutzkleidung mitbringt. Wir lassen den Tag dann gemütlich bei einem Lagerfeuer und Knüppelteig ausklingen. Auch kann gerne zusätzlich weiteres Fingerfood mitgebracht werden. Die Henne freut sich auf euch!
URL:https://langehenne.de/termine/baunachmittag-mit-lagerfeuer-und-stockbrot/
ATTACH;FMTTYPE=image/jpeg:https://langehenne.de/wp-content/uploads/2024/03/Han1.jpg
END:VEVENT
BEGIN:VEVENT
DTSTART;TZID=Europe/Berlin:20240404T150000
DTEND;TZID=Europe/Berlin:20240404T170000
DTSTAMP:20260423T163746
CREATED:20240310T201928Z
LAST-MODIFIED:20240310T201928Z
UID:6335-1712242800-1712250000@langehenne.de
SUMMARY:Donnerstag ist Schnuppertag!
DESCRIPTION:Ihr lieben Interessierten\, verschiedene Wege haben euch zu uns geführt aber vielleicht führt uns\, nach unserem Kennenlernen ein Weg gemeinsam weiter!? Du bist neugierig was wir alles machen\, was wir für Pläne und Projekte haben\, wer alles zum Begegnungsort so dazu gehört? Dann finde es heraus und BEGEGNE uns für erste zwei Stunden zum KENNENLERNTAG! \nWir zeigen dir alles und beantworten deine Fragen. Wir sind an diesen Nachmittagen offen für jeden und freuen uns darauf dich zu sehen! Das Hennen-Team
URL:https://langehenne.de/termine/donnerstag-ist-schnuppertag-2/
ATTACH;FMTTYPE=image/jpeg:https://langehenne.de/wp-content/uploads/2024/03/Kennenlerntage-Fruehjahr-2024.jpg
END:VEVENT
BEGIN:VEVENT
DTSTART;TZID=Europe/Berlin:20240406T100000
DTEND;TZID=Europe/Berlin:20240406T170000
DTSTAMP:20260423T163746
CREATED:20240325T222344Z
LAST-MODIFIED:20240327T114235Z
UID:6351-1712397600-1712422800@langehenne.de
SUMMARY:Garteneinsatz - Arbeit an der frischen Luft
DESCRIPTION:Wir wollen unseren Garten für die neue Saison vorbereiten\, dafür stehen verschiedene Arbeiten für draußen an. Jeder der sich dafür zu uns aufmachen möchte\, ist am 6.4.24 ab 10 Uhr gern gesehen! Genießt mit uns die wunderschöne Natur an diesem Ort und lasst uns gemeinsam unter Vogel Gezwitscher mit selbst mitgebrachten Speisen\, essen.
URL:https://langehenne.de/termine/garteneinsatz-arbeit-an-der-frischen-luft/
ATTACH;FMTTYPE=image/jpeg:https://langehenne.de/wp-content/uploads/2024/03/www.langehenne.determine1.jpg
END:VEVENT
BEGIN:VEVENT
DTSTART;TZID=Europe/Berlin:20240413T100000
DTEND;TZID=Europe/Berlin:20240413T160000
DTSTAMP:20260423T163746
CREATED:20240310T175722Z
LAST-MODIFIED:20240310T175722Z
UID:6328-1713002400-1713024000@langehenne.de
SUMMARY:Großer Frühjahrsputz in der Henne
DESCRIPTION:„Viele Hände schnelles Ende“ sagt ein Sprichwort und so soll es bei uns am Samstag\, den 13.4.2024 ablaufen! \nDamit die Henne wieder im großen Glanz erstrahlt\, brauchen wir dich! Deshalb freuen wir uns\, wenn du mit Lust und Tatendrang ab 10 Uhr vor Ort bist! Jeder ist für seine Verpflegung selbst verantwortlich\, auch wären eigene Putzmaterialien von Vorteil. Dafür ist ein fröhliches Miteinander in den Pausen garantiert und während der Arbeit haben wir natürlich auch alle Spaß und gute Laune! \nWir freuen uns auf jede helfende Hand! Gibt es noch Fragen\, schreibt gern eine Email!
URL:https://langehenne.de/termine/grosser-fruehjahrsputz-in-der-henne/
ATTACH;FMTTYPE=image/jpeg:https://langehenne.de/wp-content/uploads/2024/03/Grosser-Fruehjahrs-putz-in-der-Henne1.jpg
END:VEVENT
END:VCALENDAR