BEGIN:VCALENDAR
VERSION:2.0
PRODID:-//Lange Henne - Naturfreunde Oberes Elbtal e.V. - ECPv6.15.20//NONSGML v1.0//EN
CALSCALE:GREGORIAN
METHOD:PUBLISH
X-WR-CALNAME:Lange Henne - Naturfreunde Oberes Elbtal e.V.
X-ORIGINAL-URL:https://langehenne.de
X-WR-CALDESC:Veranstaltungen für Lange Henne - Naturfreunde Oberes Elbtal e.V.
REFRESH-INTERVAL;VALUE=DURATION:PT1H
X-Robots-Tag:noindex
X-PUBLISHED-TTL:PT1H
BEGIN:VTIMEZONE
TZID:Europe/Berlin
BEGIN:DAYLIGHT
TZOFFSETFROM:+0100
TZOFFSETTO:+0200
TZNAME:CEST
DTSTART:20230326T010000
END:DAYLIGHT
BEGIN:STANDARD
TZOFFSETFROM:+0200
TZOFFSETTO:+0100
TZNAME:CET
DTSTART:20231029T010000
END:STANDARD
BEGIN:DAYLIGHT
TZOFFSETFROM:+0100
TZOFFSETTO:+0200
TZNAME:CEST
DTSTART:20240331T010000
END:DAYLIGHT
BEGIN:STANDARD
TZOFFSETFROM:+0200
TZOFFSETTO:+0100
TZNAME:CET
DTSTART:20241027T010000
END:STANDARD
BEGIN:DAYLIGHT
TZOFFSETFROM:+0100
TZOFFSETTO:+0200
TZNAME:CEST
DTSTART:20250330T010000
END:DAYLIGHT
BEGIN:STANDARD
TZOFFSETFROM:+0200
TZOFFSETTO:+0100
TZNAME:CET
DTSTART:20251026T010000
END:STANDARD
END:VTIMEZONE
BEGIN:VEVENT
DTSTART;TZID=Europe/Berlin:20240321T160000
DTEND;TZID=Europe/Berlin:20240321T180000
DTSTAMP:20260423T181155
CREATED:20240310T201758Z
LAST-MODIFIED:20240310T201758Z
UID:6332-1711036800-1711044000@langehenne.de
SUMMARY:Donnerstag ist Schnuppertag!
DESCRIPTION:Ihr lieben Interessierten\, verschiedene Wege haben euch zu uns geführt aber vielleicht führt uns\, nach unserem Kennenlernen ein Weg gemeinsam weiter!? Du bist neugierig was wir alles machen\, was wir für Pläne und Projekte haben\, wer alles zum Begegnungsort so dazu gehört? Dann finde es heraus und BEGEGNE uns für erste zwei Stunden zum KENNENLERNTAG! \nWir zeigen dir alles und beantworten deine Fragen. Wir sind an diesen Nachmittagen offen für jeden und freuen uns darauf dich zu sehen! Das Hennen-Team
URL:https://langehenne.de/termine/donnerstag-ist-schnuppertag/
ATTACH;FMTTYPE=image/jpeg:https://langehenne.de/wp-content/uploads/2024/03/Kennenlerntage-Fruehjahr-2024.jpg
END:VEVENT
BEGIN:VEVENT
DTSTART;TZID=Europe/Berlin:20240323T130000
DTEND;TZID=Europe/Berlin:20240323T170000
DTSTAMP:20260423T181155
CREATED:20240308T092723Z
LAST-MODIFIED:20240311T082758Z
UID:6324-1711198800-1711213200@langehenne.de
SUMMARY:Ein Flohmarkt für alle!
DESCRIPTION:Wir möchten mit euch zusammen einen Flohmarkt veranstalten! Es können dafür jederzeit noch Standanmeldungen über unsere Email Adresse getätigt werden: post@langehenne.de \nStattfinden soll dieser an unserem Hennenort am 23.3.2024 von 13-17 Uhr. \nMit einer Wertschätzung von 10 EUR und eurem eigenen Tisch  seid ihr sicher dabei. Außerdem erfreuen sich alle an einem bunten Kuchenbuffet\, deshalb – mach es mit bunt und bringe gern etwas Leckeres dafür mit! Herzlichen Dank\, euer Henne-Team
URL:https://langehenne.de/termine/ein-flohmarkt-fuer-alle/
LOCATION:Lange Henne\, Bahraer Str. 13a\, Langenhennersdorf\, 01816
ATTACH;FMTTYPE=image/jpeg:https://langehenne.de/wp-content/uploads/2024/03/Garage-Sale1.jpg
ORGANIZER;CN="Lange Henne":MAILTO:post@langehenne.de
END:VEVENT
END:VCALENDAR