BEGIN:VCALENDAR
VERSION:2.0
PRODID:-//Lange Henne - Naturfreunde Oberes Elbtal e.V. - ECPv6.15.20//NONSGML v1.0//EN
CALSCALE:GREGORIAN
METHOD:PUBLISH
X-WR-CALNAME:Lange Henne - Naturfreunde Oberes Elbtal e.V.
X-ORIGINAL-URL:https://langehenne.de
X-WR-CALDESC:Veranstaltungen für Lange Henne - Naturfreunde Oberes Elbtal e.V.
REFRESH-INTERVAL;VALUE=DURATION:PT1H
X-Robots-Tag:noindex
X-PUBLISHED-TTL:PT1H
BEGIN:VTIMEZONE
TZID:UTC
BEGIN:STANDARD
TZOFFSETFROM:+0000
TZOFFSETTO:+0000
TZNAME:UTC
DTSTART:20220101T000000
END:STANDARD
END:VTIMEZONE
BEGIN:VTIMEZONE
TZID:Europe/Berlin
BEGIN:DAYLIGHT
TZOFFSETFROM:+0100
TZOFFSETTO:+0200
TZNAME:CEST
DTSTART:20220327T010000
END:DAYLIGHT
BEGIN:STANDARD
TZOFFSETFROM:+0200
TZOFFSETTO:+0100
TZNAME:CET
DTSTART:20221030T010000
END:STANDARD
BEGIN:DAYLIGHT
TZOFFSETFROM:+0100
TZOFFSETTO:+0200
TZNAME:CEST
DTSTART:20230326T010000
END:DAYLIGHT
BEGIN:STANDARD
TZOFFSETFROM:+0200
TZOFFSETTO:+0100
TZNAME:CET
DTSTART:20231029T010000
END:STANDARD
BEGIN:DAYLIGHT
TZOFFSETFROM:+0100
TZOFFSETTO:+0200
TZNAME:CEST
DTSTART:20240331T010000
END:DAYLIGHT
BEGIN:STANDARD
TZOFFSETFROM:+0200
TZOFFSETTO:+0100
TZNAME:CET
DTSTART:20241027T010000
END:STANDARD
END:VTIMEZONE
BEGIN:VEVENT
DTSTART;TZID=UTC:20231102T153000
DTEND;TZID=UTC:20231102T173000
DTSTAMP:20260424T002028
CREATED:20230511T213308Z
LAST-MODIFIED:20231002T074704Z
UID:6220-1698939000-1698946200@langehenne.de
SUMMARY:Schnuppertag für Alle
DESCRIPTION:Komm in die Henne\, wir zeigen dir was bei uns los ist und welche Möglichkeiten es gibt.\nPrivate Führung über das Gelände und Vorstellung der Angebote. Selbstverständlich kostenfrei. \nSport\, Spiel und Spaß in der Langen Henne. \nSchnuppertag & offene Turnhalle – natürlich auch jederzeit nach Vereinbarung.
URL:https://langehenne.de/termine/schnuppertag-fuer-alle-2/
LOCATION:Lange Henne\, Bahraer Str. 13a\, Langenhennersdorf\, 01816
ATTACH;FMTTYPE=image/jpeg:https://langehenne.de/wp-content/uploads/2023/02/Henne-Verein-3.44.jpg
END:VEVENT
BEGIN:VEVENT
DTSTART;TZID=Europe/Berlin:20231118T103000
DTEND;TZID=Europe/Berlin:20231118T123000
DTSTAMP:20260424T002028
CREATED:20231116T122204Z
LAST-MODIFIED:20231116T220156Z
UID:6298-1700303400-1700310600@langehenne.de
SUMMARY:Plätzchen backen
DESCRIPTION:Es gibt nichts schöneres\, als den Duft von Gebackenem… Auch in unserer Henne soll es lieblich weihnachtlich duften. Denn an diesem tollen Tag laden wir euch ganz herzlich in unsere Henne zum Zimtsterne backen ein! \nBringt gern dafür eure Backzutaten mit\, auch geeignete Hilfsmittel und dann kann es in gemeinsamer Runde mit weihnachtlicher Hintergrundmusik los gehen. \nWer ist dabei? \nNichthennenmitglieder bezahlen 3 EUR.
URL:https://langehenne.de/termine/zimtsterne-backen/
ATTACH;FMTTYPE=image/jpeg:https://langehenne.de/wp-content/uploads/2023/11/christmas-cookies-2975570_1280.jpg
END:VEVENT
BEGIN:VEVENT
DTSTART;TZID=Europe/Berlin:20231123T153000
DTEND;TZID=Europe/Berlin:20231123T173000
DTSTAMP:20260424T002028
CREATED:20231116T123405Z
LAST-MODIFIED:20231117T070750Z
UID:6300-1700753400-1700760600@langehenne.de
SUMMARY:Fackeln bauen
DESCRIPTION:Wir lassen euch nicht im Dunklen stehen und laden euch deshalb zu einem Fackelbau mit Marco ein. \nNichthennenmitglieder bringen dafür bitte 3 EUR zzgl. etwas Matrialkosten mit. Lieben Dank!
URL:https://langehenne.de/termine/fackeln-bauen/
ATTACH;FMTTYPE=image/jpeg:https://langehenne.de/wp-content/uploads/2023/11/fire-2293607_1280.jpg
END:VEVENT
BEGIN:VEVENT
DTSTART;TZID=Europe/Berlin:20231125T103000
DTEND;TZID=Europe/Berlin:20231125T123000
DTSTAMP:20260424T002028
CREATED:20231116T121652Z
LAST-MODIFIED:20231116T215645Z
UID:6296-1700908200-1700915400@langehenne.de
SUMMARY:Adventskranz binden
DESCRIPTION:Ein Schmuck der zu Hause nicht fehlen sollte – der Adventskranz! Deshalb laden wir euch an diesem Tag ganz herzlich dazu ein\, zusammen mit uns in die Kunst des Adventskranzbindens einzutauchen. Und sich natürlich selber einen zu gestalten! \nJeder ist willkommen! \nNichthennenmitglieder bezahlen dafür 3 EUR zzgl. etwas Matrialeinsatzkosten \nWir freuen uns auf eure Teilnahme\, im Anschluss kann noch gemeinsam Mittag gegessen werden\, wenn ihr euch etwas mitbringt.
URL:https://langehenne.de/termine/adventskranz-binden/
ATTACH;FMTTYPE=image/jpeg:https://langehenne.de/wp-content/uploads/2023/11/candle-1074442_1280.jpg
END:VEVENT
END:VCALENDAR