BEGIN:VCALENDAR
VERSION:2.0
PRODID:-//Lange Henne - Naturfreunde Oberes Elbtal e.V. - ECPv6.15.20//NONSGML v1.0//EN
CALSCALE:GREGORIAN
METHOD:PUBLISH
X-ORIGINAL-URL:https://langehenne.de
X-WR-CALDESC:Veranstaltungen für Lange Henne - Naturfreunde Oberes Elbtal e.V.
REFRESH-INTERVAL;VALUE=DURATION:PT1H
X-Robots-Tag:noindex
X-PUBLISHED-TTL:PT1H
BEGIN:VTIMEZONE
TZID:Europe/Berlin
BEGIN:DAYLIGHT
TZOFFSETFROM:+0100
TZOFFSETTO:+0200
TZNAME:CEST
DTSTART:20250330T010000
END:DAYLIGHT
BEGIN:STANDARD
TZOFFSETFROM:+0200
TZOFFSETTO:+0100
TZNAME:CET
DTSTART:20251026T010000
END:STANDARD
BEGIN:DAYLIGHT
TZOFFSETFROM:+0100
TZOFFSETTO:+0200
TZNAME:CEST
DTSTART:20260329T010000
END:DAYLIGHT
BEGIN:STANDARD
TZOFFSETFROM:+0200
TZOFFSETTO:+0100
TZNAME:CET
DTSTART:20261025T010000
END:STANDARD
BEGIN:DAYLIGHT
TZOFFSETFROM:+0100
TZOFFSETTO:+0200
TZNAME:CEST
DTSTART:20270328T010000
END:DAYLIGHT
BEGIN:STANDARD
TZOFFSETFROM:+0200
TZOFFSETTO:+0100
TZNAME:CET
DTSTART:20271031T010000
END:STANDARD
END:VTIMEZONE
BEGIN:VEVENT
DTSTART;TZID=Europe/Berlin:20260416T170000
DTEND;TZID=Europe/Berlin:20260416T200000
DTSTAMP:20260425T000435
CREATED:20260326T204414Z
LAST-MODIFIED:20260327T065419Z
UID:7413-1776358800-1776369600@langehenne.de
SUMMARY:Kulturschatz Deutsche Sprache - Vortrag und Dialog
DESCRIPTION:Wir freuen uns am Donnerstag\, den 16. April wieder Thorsten bei uns zu haben. Er hat sich schon über viele Jahre in die Thematik der Herkunft der Wörter eingearbeitet und wird uns zusammen mit seiner Begleitung Sabine auf die Sprachreise mitnehmen!  Beide möchten mit den Teilnehmern in den Austausch gehen\, die Lust haben\, die Mutter der Sprachen kennenzulernen. Um es vielen zu ermöglichen sich für dieses Event Zeit zu nehmen\, haben wir den Termin in die Woche gesetzt und einen zeitlichen Rahmen von ca. 3 Stunden eingeplant. \nDas heißt konkret: Beginn ist um 17 Uhr – Ende ca. 20 Uhr\, je nach Gesprächsbedarf. \nEs wird also nicht nur ein Vortrag\, sondern das Ganze ist auch als Einladung an die Besucher gerichtet\, sich mit Fragen und eigenen Gedanken zum Thema einzubringen\, um daraus eine lebendige Veranstaltung zu machen\, von der im Anschluss alle etwas mit nach Hause nehmen können (auf gedanklicher Ebene). \nBitte sorgt selbst für eure Verpflegung. Wasser und Tee bietet die Lange Henne kostenfrei vor Ort an. \nWir freuen uns auf viele Interessierte\, um eine Anmeldung wird gebeten: post@langehenne.de \nDie Wertschätzung liegt bei 33 EUR pro Teilnehmer. \nAußerdem geben wir zeitnah einen Anschlusstermin bekannt. Denn es wird nicht das letzte Treffen zu diesem Thema sein\, denn wie kann etwas enden\, was uns ständig umgibt!? \nBeste Grüße\, euer Hennen-Team
URL:https://langehenne.de/termine/kulturschatz-deutsche-sprache-vortrag-und-dialog/
ATTACH;FMTTYPE=image/jpeg:https://langehenne.de/wp-content/uploads/2026/03/Deutsche-Sprache.jpg
END:VEVENT
END:VCALENDAR