BEGIN:VCALENDAR
VERSION:2.0
PRODID:-//Lange Henne - Naturfreunde Oberes Elbtal e.V. - ECPv6.15.20//NONSGML v1.0//EN
CALSCALE:GREGORIAN
METHOD:PUBLISH
X-WR-CALNAME:Lange Henne - Naturfreunde Oberes Elbtal e.V.
X-ORIGINAL-URL:https://langehenne.de
X-WR-CALDESC:Veranstaltungen für Lange Henne - Naturfreunde Oberes Elbtal e.V.
REFRESH-INTERVAL;VALUE=DURATION:PT1H
X-Robots-Tag:noindex
X-PUBLISHED-TTL:PT1H
BEGIN:VTIMEZONE
TZID:Europe/Berlin
BEGIN:DAYLIGHT
TZOFFSETFROM:+0100
TZOFFSETTO:+0200
TZNAME:CEST
DTSTART:20230326T010000
END:DAYLIGHT
BEGIN:STANDARD
TZOFFSETFROM:+0200
TZOFFSETTO:+0100
TZNAME:CET
DTSTART:20231029T010000
END:STANDARD
BEGIN:DAYLIGHT
TZOFFSETFROM:+0100
TZOFFSETTO:+0200
TZNAME:CEST
DTSTART:20240331T010000
END:DAYLIGHT
BEGIN:STANDARD
TZOFFSETFROM:+0200
TZOFFSETTO:+0100
TZNAME:CET
DTSTART:20241027T010000
END:STANDARD
BEGIN:DAYLIGHT
TZOFFSETFROM:+0100
TZOFFSETTO:+0200
TZNAME:CEST
DTSTART:20250330T010000
END:DAYLIGHT
BEGIN:STANDARD
TZOFFSETFROM:+0200
TZOFFSETTO:+0100
TZNAME:CET
DTSTART:20251026T010000
END:STANDARD
END:VTIMEZONE
BEGIN:VEVENT
DTSTART;TZID=Europe/Berlin:20240406T100000
DTEND;TZID=Europe/Berlin:20240406T170000
DTSTAMP:20260423T181155
CREATED:20240325T222344Z
LAST-MODIFIED:20240327T114235Z
UID:6351-1712397600-1712422800@langehenne.de
SUMMARY:Garteneinsatz - Arbeit an der frischen Luft
DESCRIPTION:Wir wollen unseren Garten für die neue Saison vorbereiten\, dafür stehen verschiedene Arbeiten für draußen an. Jeder der sich dafür zu uns aufmachen möchte\, ist am 6.4.24 ab 10 Uhr gern gesehen! Genießt mit uns die wunderschöne Natur an diesem Ort und lasst uns gemeinsam unter Vogel Gezwitscher mit selbst mitgebrachten Speisen\, essen.
URL:https://langehenne.de/termine/garteneinsatz-arbeit-an-der-frischen-luft/
ATTACH;FMTTYPE=image/jpeg:https://langehenne.de/wp-content/uploads/2024/03/www.langehenne.determine1.jpg
END:VEVENT
END:VCALENDAR