BEGIN:VCALENDAR
VERSION:2.0
PRODID:-//Lange Henne - Naturfreunde Oberes Elbtal e.V. - ECPv6.15.20//NONSGML v1.0//EN
CALSCALE:GREGORIAN
METHOD:PUBLISH
X-WR-CALNAME:Lange Henne - Naturfreunde Oberes Elbtal e.V.
X-ORIGINAL-URL:https://langehenne.de
X-WR-CALDESC:Veranstaltungen für Lange Henne - Naturfreunde Oberes Elbtal e.V.
REFRESH-INTERVAL;VALUE=DURATION:PT1H
X-Robots-Tag:noindex
X-PUBLISHED-TTL:PT1H
BEGIN:VTIMEZONE
TZID:Europe/Berlin
BEGIN:DAYLIGHT
TZOFFSETFROM:+0100
TZOFFSETTO:+0200
TZNAME:CEST
DTSTART:20220327T010000
END:DAYLIGHT
BEGIN:STANDARD
TZOFFSETFROM:+0200
TZOFFSETTO:+0100
TZNAME:CET
DTSTART:20221030T010000
END:STANDARD
BEGIN:DAYLIGHT
TZOFFSETFROM:+0100
TZOFFSETTO:+0200
TZNAME:CEST
DTSTART:20230326T010000
END:DAYLIGHT
BEGIN:STANDARD
TZOFFSETFROM:+0200
TZOFFSETTO:+0100
TZNAME:CET
DTSTART:20231029T010000
END:STANDARD
BEGIN:DAYLIGHT
TZOFFSETFROM:+0100
TZOFFSETTO:+0200
TZNAME:CEST
DTSTART:20240331T010000
END:DAYLIGHT
BEGIN:STANDARD
TZOFFSETFROM:+0200
TZOFFSETTO:+0100
TZNAME:CET
DTSTART:20241027T010000
END:STANDARD
END:VTIMEZONE
BEGIN:VEVENT
DTSTART;TZID=Europe/Berlin:20231202T150000
DTEND;TZID=Europe/Berlin:20231202T190000
DTSTAMP:20260424T002157
CREATED:20231102T115019Z
LAST-MODIFIED:20231116T132456Z
UID:6291-1701529200-1701543600@langehenne.de
SUMMARY:2. Hennen Weihnachtsmarkt
DESCRIPTION:Wir möchten mit allen in die Weihnachtszeit einstimmen und laden deshalb recht herzlich ein! \n \nEine zufrieden gackernde Henne sagt von Herzen DANKE an alle Sponsoren und Unterstützer die uns das ganze Jahr begleitet und gefördert haben. Und Veranstaltungen wie diesen 2. \nHennen Weihnachtsmarkt\, Projektweiterentwicklung und viele andere bunte Angebote dadurch mit möglich machten.
URL:https://langehenne.de/termine/2-hennen-weihnachtsmarkt/
ATTACH;FMTTYPE=image/png:https://langehenne.de/wp-content/uploads/2023/11/Weihnachts1.png
END:VEVENT
END:VCALENDAR