BEGIN:VCALENDAR
VERSION:2.0
PRODID:-//Lange Henne - Naturfreunde Oberes Elbtal e.V. - ECPv6.15.20//NONSGML v1.0//EN
CALSCALE:GREGORIAN
METHOD:PUBLISH
X-WR-CALNAME:Lange Henne - Naturfreunde Oberes Elbtal e.V.
X-ORIGINAL-URL:https://langehenne.de
X-WR-CALDESC:Veranstaltungen für Lange Henne - Naturfreunde Oberes Elbtal e.V.
REFRESH-INTERVAL;VALUE=DURATION:PT1H
X-Robots-Tag:noindex
X-PUBLISHED-TTL:PT1H
BEGIN:VTIMEZONE
TZID:Europe/Berlin
BEGIN:DAYLIGHT
TZOFFSETFROM:+0100
TZOFFSETTO:+0200
TZNAME:CEST
DTSTART:20220327T010000
END:DAYLIGHT
BEGIN:STANDARD
TZOFFSETFROM:+0200
TZOFFSETTO:+0100
TZNAME:CET
DTSTART:20221030T010000
END:STANDARD
BEGIN:DAYLIGHT
TZOFFSETFROM:+0100
TZOFFSETTO:+0200
TZNAME:CEST
DTSTART:20230326T010000
END:DAYLIGHT
BEGIN:STANDARD
TZOFFSETFROM:+0200
TZOFFSETTO:+0100
TZNAME:CET
DTSTART:20231029T010000
END:STANDARD
BEGIN:DAYLIGHT
TZOFFSETFROM:+0100
TZOFFSETTO:+0200
TZNAME:CEST
DTSTART:20240331T010000
END:DAYLIGHT
BEGIN:STANDARD
TZOFFSETFROM:+0200
TZOFFSETTO:+0100
TZNAME:CET
DTSTART:20241027T010000
END:STANDARD
END:VTIMEZONE
BEGIN:VEVENT
DTSTART;TZID=Europe/Berlin:20230720T153000
DTEND;TZID=Europe/Berlin:20230720T170000
DTSTAMP:20260424T071409
CREATED:20230620T152623Z
LAST-MODIFIED:20230620T152623Z
UID:6264-1689867000-1689872400@langehenne.de
SUMMARY:Makramee mit Katja für Klein & Groß
DESCRIPTION:aller 2 Wochen\nDonnerstag ab 15.30 Uhr – 17 Uhr\nMakramee mit Katja für Klein und Groß. \nUnkostenbeitrag : ab* 4\,00 Euro * ist abhängig vom Materialbedarf (vom Unkostenbeitrag werden 2\,00 € an die Henne gespendet)\nWeitere Termine finden im 2- Wochen Rhythmus statt.
URL:https://langehenne.de/termine/makramee-mit-katja-fuer-klein-gross/
ATTACH;FMTTYPE=image/jpeg:https://langehenne.de/wp-content/uploads/2023/06/Makramee-Lange-Henne.jpg
END:VEVENT
END:VCALENDAR